BEGIN:VCALENDAR
VERSION:2.0
PRODID:-//chikkutakku.com//RDFCal 1.0//EN
X-WR-CALDESC:GoogleカレンダーやiCalendar形式情報を共有シェ
 アしましょう。近所のイベントから全国のイベントま
 で今日のイベント検索やスケジュールを決めるならち
 っくたっく
X-WR-CALNAME:ちっくたっく
X-WR-TIMEZONE:UTC
BEGIN:VEVENT
SUMMARY:Cross Country League Race
DTSTART;VALUE=DATE-TIME:20260520T130000Z
DTEND;VALUE=DATE-TIME:20260520T153000Z
UID:272535718856
DESCRIPTION:Cross Country League Race
LOCATION:Hoërskool Jan Van Riebeeck Boshoffveld\, 0A Quarry Hill Rd\, Tam
 boerskloof\, Cape Town\, 8001\, South Africa
END:VEVENT
END:VCALENDAR
