BEGIN:VCALENDAR
VERSION:2.0
PRODID:-//chikkutakku.com//RDFCal 1.0//EN
X-WR-CALDESC:GoogleカレンダーやiCalendar形式情報を共有シェ
 アしましょう。近所のイベントから全国のイベントま
 で今日のイベント検索やスケジュールを決めるならち
 っくたっく
X-WR-CALNAME:ちっくたっく
X-WR-TIMEZONE:UTC
BEGIN:VEVENT
SUMMARY:[AtCoder] AtCoder Weekday Contest 0054 Beta
DTSTART;VALUE=DATE-TIME:20260423T110000Z
DTEND;VALUE=DATE-TIME:20260423T120000Z
UID:272632568706
DESCRIPTION:AtCoder Weekday Contest 0054 Beta
LOCATION:https://atcoder.jp/contests/awc0054
END:VEVENT
END:VCALENDAR
