BEGIN:VCALENDAR
VERSION:2.0
PRODID:-//chikkutakku.com//RDFCal 1.0//EN
X-WR-CALDESC:GoogleカレンダーやiCalendar形式情報を共有シェ
 アしましょう。近所のイベントから全国のイベントま
 で今日のイベント検索やスケジュールを決めるならち
 っくたっく
X-WR-CALNAME:ちっくたっく
X-WR-TIMEZONE:UTC
BEGIN:VEVENT
SUMMARY:知らないどこかへ 難民となった子どもたち
DTSTART;VALUE=DATE:20260520
DTEND;VALUE=DATE:20260521
UID:273058175410
DESCRIPTION:2026-05-21知らないどこかへ 難民となった子ども
 たちカシュミラ・シェット/ニコロ・カロッツィ/杉本詠
 美/日下部尚徳汐文社
LOCATION:
END:VEVENT
END:VCALENDAR
