BEGIN:VCALENDAR
VERSION:2.0
PRODID:-//chikkutakku.com//RDFCal 1.0//EN
X-WR-CALDESC:GoogleカレンダーやiCalendar形式情報を共有シェ
 アしましょう。近所のイベントから全国のイベントま
 で今日のイベント検索やスケジュールを決めるならち
 っくたっく
X-WR-CALNAME:ちっくたっく
X-WR-TIMEZONE:UTC
BEGIN:VEVENT
SUMMARY:【注】痛いのは嫌なので防御力に極振りしたいと
 思います。2 #1 防御特化とクリスマス。 / #2 防御特化と
 五層と六層。 / #3 防御特化と第七回イベント。 / #4 防
 御特化と塔攻略。 / #5 防御特化と触手。 / #6 防御特化
 とテイムモンスター。 / #7 防御特化と宝石探し。 / #8 
 防御特化と第八回イベント。 / #9 防御特化と拠点作り
 。 / #10 防御特化と新コンビ。 / #11 防御特化と新パーテ
 ィ。 / #12 防御特化と大決戦。
DTSTART;VALUE=DATE-TIME:20260422T223000Z
DTEND;VALUE=DATE-TIME:20260423T043000Z
UID:273517098325
DESCRIPTION: / #1 防御特化とクリスマス。 / #2 防御特化と
 五層と六層。 / #3 防御特化と第七回イベント。 / #4 防
 御特化と塔攻略。 / #5 防御特化と触手。 / #6 防御特化
 とテイムモンスター。 / #7 防御特化と宝石探し。 / #8 
 防御特化と第八回イベント。 / #9 防御特化と拠点作り
 。 / #10 防御特化と新コンビ。 / #11 防御特化と新パーテ
 ィ。 / #12 防御特化と大決戦。 / ([[異世界・ファンタジ
 ー2 https://abema.tv/timetable/channels/isekai-anime-2]]) https://abema.t
 v/channels/isekai-anime-2/slots/Ah77mQX1mYXkHu リピート放送は 18:30
 ～ https://abema.tv/channels/isekai-anime-2/slots/EvABNRxYZpLTmy 、4/24(
 金) 7:00～ https://abema.tv/channels/isekai-anime-2/slots/AkN7aLoDni7qMR
  (無料TS1週間)
LOCATION:ABEMA特設その他
END:VEVENT
END:VCALENDAR
