BEGIN:VCALENDAR
VERSION:2.0
PRODID:-//chikkutakku.com//RDFCal 1.0//EN
X-WR-CALDESC:GoogleカレンダーやiCalendar形式情報を共有シェ
 アしましょう。近所のイベントから全国のイベントま
 で今日のイベント検索やスケジュールを決めるならち
 っくたっく
X-WR-CALNAME:ちっくたっく
X-WR-TIMEZONE:UTC
BEGIN:VEVENT
SUMMARY:AA
DTSTART;VALUE=DATE-TIME:20260509T040000Z
DTEND;VALUE=DATE-TIME:20260509T040000Z
UID:273564406143
DESCRIPTION:AA
LOCATION:MPR-A/B - Room 201A/B
END:VEVENT
END:VCALENDAR
