BEGIN:VCALENDAR
VERSION:2.0
PRODID:-//chikkutakku.com//RDFCal 1.0//EN
X-WR-CALDESC:GoogleカレンダーやiCalendar形式情報を共有シェ
 アしましょう。近所のイベントから全国のイベントま
 で今日のイベント検索やスケジュールを決めるならち
 っくたっく
X-WR-CALNAME:ちっくたっく
X-WR-TIMEZONE:UTC
BEGIN:VEVENT
SUMMARY:【高雄】5/5 企業成本結構改造：低價格、低成本
 、高獲利實務 (實體/線上)
DTSTART;VALUE=DATE-TIME:20260504T160000Z
DTEND;VALUE=DATE-TIME:20260505T155959Z
UID:273575042401
DESCRIPTION:【高雄】5/5 企業成本結構改造：低價格、低成
 本、高獲利實務 (實體/線上)
LOCATION:
END:VEVENT
END:VCALENDAR
