BEGIN:VCALENDAR
VERSION:2.0
PRODID:-//chikkutakku.com//RDFCal 1.0//EN
X-WR-CALDESC:GoogleカレンダーやiCalendar形式情報を共有シェ
 アしましょう。近所のイベントから全国のイベントま
 で今日のイベント検索やスケジュールを決めるならち
 っくたっく
X-WR-CALNAME:ちっくたっく
X-WR-TIMEZONE:UTC
BEGIN:VEVENT
SUMMARY:從在地到國際：B2B 外銷影音行銷全攻略
DTSTART;VALUE=DATE-TIME:20260420T160000Z
DTEND;VALUE=DATE-TIME:20260428T155959Z
UID:274090053148
DESCRIPTION:從在地到國際：B2B 外銷影音行銷全攻略
LOCATION:
END:VEVENT
END:VCALENDAR
