BEGIN:VCALENDAR
VERSION:2.0
PRODID:-//chikkutakku.com//RDFCal 1.0//EN
X-WR-CALDESC:GoogleカレンダーやiCalendar形式情報を共有シェ
 アしましょう。近所のイベントから全国のイベントま
 で今日のイベント検索やスケジュールを決めるならち
 っくたっく
X-WR-CALNAME:ちっくたっく
X-WR-TIMEZONE:UTC
BEGIN:VEVENT
SUMMARY:22日社團3、班會-高一排球賽
DTSTART;VALUE=DATE:20260421
DTEND;VALUE=DATE:20260422
UID:274660075875
DESCRIPTION:22日社團3、班會-高一排球賽
LOCATION:
END:VEVENT
END:VCALENDAR
