BEGIN:VCALENDAR
VERSION:2.0
PRODID:-//chikkutakku.com//RDFCal 1.0//EN
X-WR-CALDESC:GoogleカレンダーやiCalendar形式情報を共有シェ
 アしましょう。近所のイベントから全国のイベントま
 で今日のイベント検索やスケジュールを決めるならち
 っくたっく
X-WR-CALNAME:ちっくたっく
X-WR-TIMEZONE:UTC
BEGIN:VEVENT
SUMMARY:Massage w Karine
DTSTART;VALUE=DATE-TIME:20260514T173000Z
DTEND;VALUE=DATE-TIME:20260514T213000Z
UID:274703453258
DESCRIPTION:Massage w Karine
LOCATION:
END:VEVENT
END:VCALENDAR
