BEGIN:VCALENDAR
VERSION:2.0
PRODID:-//chikkutakku.com//RDFCal 1.0//EN
X-WR-CALDESC:GoogleカレンダーやiCalendar形式情報を共有シェ
 アしましょう。近所のイベントから全国のイベントま
 で今日のイベント検索やスケジュールを決めるならち
 っくたっく
X-WR-CALNAME:ちっくたっく
X-WR-TIMEZONE:UTC
BEGIN:VEVENT
SUMMARY:和歌山ハーモニカクラブと唄う会
DTSTART;VALUE=DATE-TIME:20260425T040000Z
DTEND;VALUE=DATE-TIME:20260425T060000Z
UID:274847389235
DESCRIPTION:http://cclive.ikora.tv/e1601611.html
LOCATION:中央コミュニティーセンター多目的室　和歌山
 市三沢町1丁目
END:VEVENT
END:VCALENDAR
