BEGIN:VCALENDAR
VERSION:2.0
PRODID:-//chikkutakku.com//RDFCal 1.0//EN
X-WR-CALDESC:GoogleカレンダーやiCalendar形式情報を共有シェ
 アしましょう。近所のイベントから全国のイベントま
 で今日のイベント検索やスケジュールを決めるならち
 っくたっく
X-WR-CALNAME:ちっくたっく
X-WR-TIMEZONE:UTC
BEGIN:VEVENT
SUMMARY:上午溪山實小一年級赴本校草山遊學(米布丁+胸章)
DTSTART;VALUE=DATE:20260428
DTEND;VALUE=DATE:20260429
UID:275396735351
DESCRIPTION:上午溪山實小一年級赴本校草山遊學(米布丁+胸
 章)
LOCATION:
END:VEVENT
END:VCALENDAR
