BEGIN:VCALENDAR
VERSION:2.0
PRODID:-//chikkutakku.com//RDFCal 1.0//EN
X-WR-CALDESC:GoogleカレンダーやiCalendar形式情報を共有シェ
 アしましょう。近所のイベントから全国のイベントま
 で今日のイベント検索やスケジュールを決めるならち
 っくたっく
X-WR-CALNAME:ちっくたっく
X-WR-TIMEZONE:UTC
BEGIN:VEVENT
SUMMARY:Garden Class - Growing Food & Year-Round Color
DTSTART;VALUE=DATE-TIME:20260507T000000Z
DTEND;VALUE=DATE-TIME:20260507T010000Z
UID:275567273182
DESCRIPTION:Garden Class - Growing Food & Year-Round Color
LOCATION:Arvada Community Garden\, 9195 W 57th Ave\, Arvada\, CO 80002\, U
 SA
END:VEVENT
END:VCALENDAR
