BEGIN:VCALENDAR
VERSION:2.0
PRODID:-//chikkutakku.com//RDFCal 1.0//EN
X-WR-CALDESC:GoogleカレンダーやiCalendar形式情報を共有シェ
 アしましょう。近所のイベントから全国のイベントま
 で今日のイベント検索やスケジュールを決めるならち
 っくたっく
X-WR-CALNAME:ちっくたっく
X-WR-TIMEZONE:UTC
BEGIN:VEVENT
SUMMARY:AI 時代 SEO： B2B 海外獲客的關鍵趨勢與策略暨企業
 數位行銷輔導方案
DTSTART;VALUE=DATE-TIME:20260421T160000Z
DTEND;VALUE=DATE-TIME:20260422T155959Z
UID:276295706154
DESCRIPTION:AI 時代 SEO： B2B 海外獲客的關鍵趨勢與策略暨
 企業數位行銷輔導方案
LOCATION:
END:VEVENT
END:VCALENDAR
