BEGIN:VCALENDAR
VERSION:2.0
PRODID:-//chikkutakku.com//RDFCal 1.0//EN
X-WR-CALDESC:GoogleカレンダーやiCalendar形式情報を共有シェ
 アしましょう。近所のイベントから全国のイベントま
 で今日のイベント検索やスケジュールを決めるならち
 っくたっく
X-WR-CALNAME:ちっくたっく
X-WR-TIMEZONE:UTC
BEGIN:VEVENT
SUMMARY:人に好かれる人の心理学
DTSTART;VALUE=DATE:20260507
DTEND;VALUE=DATE:20260508
UID:276456539222
DESCRIPTION:2026-05-08人に好かれる人の心理学齊藤 勇誠信書
 房
LOCATION:
END:VEVENT
END:VCALENDAR
