BEGIN:VCALENDAR
VERSION:2.0
PRODID:-//chikkutakku.com//RDFCal 1.0//EN
X-WR-CALDESC:GoogleカレンダーやiCalendar形式情報を共有シェ
 アしましょう。近所のイベントから全国のイベントま
 で今日のイベント検索やスケジュールを決めるならち
 っくたっく
X-WR-CALNAME:ちっくたっく
X-WR-TIMEZONE:UTC
BEGIN:VEVENT
SUMMARY:10th Grade Presentation
DTSTART;VALUE=DATE:20260518
DTEND;VALUE=DATE:20260521
UID:276507088663
DESCRIPTION:Grade Level Presentations start and are part of your students 
 FINAL grades. Students are expected to dress in formal\, business attire. 
 Review the  SES Parent and Student Handbook for student expectations. Rea
 ch out to your students' ELA teacher for more information.
LOCATION:
END:VEVENT
END:VCALENDAR
