BEGIN:VCALENDAR
VERSION:2.0
PRODID:-//chikkutakku.com//RDFCal 1.0//EN
X-WR-CALDESC:GoogleカレンダーやiCalendar形式情報を共有シェ
 アしましょう。近所のイベントから全国のイベントま
 で今日のイベント検索やスケジュールを決めるならち
 っくたっく
X-WR-CALNAME:ちっくたっく
X-WR-TIMEZONE:UTC
BEGIN:VEVENT
SUMMARY:A川口 初中級クラス3 吹野（ヴェニーズワルツ初
 中級B）
DTSTART;VALUE=DATE-TIME:20260425T111500Z
DTEND;VALUE=DATE-TIME:20260425T120000Z
UID:277295871193
DESCRIPTION:ステップ名＆動画\nヴェニーズワルツ初中級B
 ：https://dancecirclej.com/index.php?go=wUsAFb
LOCATION:タキガワダンススクール池袋
END:VEVENT
END:VCALENDAR
