BEGIN:VCALENDAR
VERSION:2.0
PRODID:-//chikkutakku.com//RDFCal 1.0//EN
X-WR-CALDESC:GoogleカレンダーやiCalendar形式情報を共有シェ
 アしましょう。近所のイベントから全国のイベントま
 で今日のイベント検索やスケジュールを決めるならち
 っくたっく
X-WR-CALNAME:ちっくたっく
X-WR-TIMEZONE:UTC
BEGIN:VEVENT
SUMMARY:Be Queer\, Do Craft (Over 18s) 
DTSTART;VALUE=DATE-TIME:20260505T080000Z
DTEND;VALUE=DATE-TIME:20260505T094500Z
UID:277527908457
DESCRIPTION:LGBTIQA+ people aged 17-25 are invited to attend our arts and 
 crafts support group from4pm to 5:45pm.Please note that this is a structur
 ed support group - ensure you can stay for the whole session where possibl
 e\, and latecomers may not be able to join after 4:45pm.Feel free to reach
  out to us for more information!Register: https://forms.office.com/r/NXUV
 VHRHFS
LOCATION:60a Frame Ct\, Leederville WA 6007\, Australia
END:VEVENT
END:VCALENDAR
