BEGIN:VCALENDAR
VERSION:2.0
PRODID:-//chikkutakku.com//RDFCal 1.0//EN
X-WR-CALDESC:GoogleカレンダーやiCalendar形式情報を共有シェ
 アしましょう。近所のイベントから全国のイベントま
 で今日のイベント検索やスケジュールを決めるならち
 っくたっく
X-WR-CALNAME:ちっくたっく
X-WR-TIMEZONE:UTC
BEGIN:VEVENT
SUMMARY:ドラゴンクエスト ダイの大冒険(2020) #79 「銀髪の
 ヒム」
DTSTART;VALUE=DATE-TIME:20260423T110000Z
DTEND;VALUE=DATE-TIME:20260423T112500Z
UID:277583355411
DESCRIPTION:79 / 銀髪のヒム / 
LOCATION:YouTube
END:VEVENT
END:VCALENDAR
