BEGIN:VCALENDAR
VERSION:2.0
PRODID:-//chikkutakku.com//RDFCal 1.0//EN
X-WR-CALDESC:GoogleカレンダーやiCalendar形式情報を共有シェ
 アしましょう。近所のイベントから全国のイベントま
 で今日のイベント検索やスケジュールを決めるならち
 っくたっく
X-WR-CALNAME:ちっくたっく
X-WR-TIMEZONE:UTC
BEGIN:VEVENT
SUMMARY:ヒトラーを怖れなかったキリスト者たち（仮）
DTSTART;VALUE=DATE:20260521
DTEND;VALUE=DATE:20260522
UID:277619898786
DESCRIPTION:2026-05-22ヒトラーを怖れなかったキリスト者た
 ち（仮）山縣 光晶彩流社
LOCATION:
END:VEVENT
END:VCALENDAR
