BEGIN:VCALENDAR
VERSION:2.0
PRODID:-//chikkutakku.com//RDFCal 1.0//EN
X-WR-CALDESC:GoogleカレンダーやiCalendar形式情報を共有シェ
 アしましょう。近所のイベントから全国のイベントま
 で今日のイベント検索やスケジュールを決めるならち
 っくたっく
X-WR-CALNAME:ちっくたっく
X-WR-TIMEZONE:UTC
BEGIN:VEVENT
SUMMARY:大船渡市×地域おこし協力隊交流フェスタ
DTSTART;VALUE=DATE-TIME:20260425T010000Z
DTEND;VALUE=DATE-TIME:20260425T073000Z
UID:277647192812
DESCRIPTION:項目: CSイベント利用あり
LOCATION:
END:VEVENT
END:VCALENDAR
