BEGIN:VCALENDAR
VERSION:2.0
PRODID:-//chikkutakku.com//RDFCal 1.0//EN
X-WR-CALDESC:GoogleカレンダーやiCalendar形式情報を共有シェ
 アしましょう。近所のイベントから全国のイベントま
 で今日のイベント検索やスケジュールを決めるならち
 っくたっく
X-WR-CALNAME:ちっくたっく
X-WR-TIMEZONE:UTC
BEGIN:VEVENT
SUMMARY:★TESORO交流戦U9★中小PM 2年以下
DTSTART;VALUE=DATE:20260424
DTEND;VALUE=DATE:20260425
UID:278006051394
DESCRIPTION:★TESORO交流戦U9\nヤナギフィールド人工芝Gに9:0
 0集合\n参加費\nU9 Ａ\n🆚TESORO 10:00 主審\n🆚巨椋ボンバ
 ーズ 11:40\n🆚下野池JSS  12:55\n🆚矢田コンドル 13:45主審\
 nU9  B\n🆚下野池jss 10:50\n🆚矢田コンドル 12:09\n🆚TESORO  
 12:30 主審\n🆚巨椋ボンバーズ  13:20\n\n★中小PM2年以下\n
 中小にて16:00〜17:00\n駐車は近隣の有料Pをご利用下さい
 。
LOCATION:
END:VEVENT
END:VCALENDAR
