BEGIN:VCALENDAR
VERSION:2.0
PRODID:-//chikkutakku.com//RDFCal 1.0//EN
X-WR-CALDESC:GoogleカレンダーやiCalendar形式情報を共有シェ
 アしましょう。近所のイベントから全国のイベントま
 で今日のイベント検索やスケジュールを決めるならち
 っくたっく
X-WR-CALNAME:ちっくたっく
X-WR-TIMEZONE:UTC
BEGIN:VEVENT
SUMMARY:U13、TRM
DTSTART;VALUE=DATE:20260503
DTEND;VALUE=DATE:20260504
UID:278281184177
DESCRIPTION:vs 岩出アズール\n\n※詳細は決まり次第掲載し
 ます。
LOCATION:大宮緑地総合運動公園\, 日本、〒649-6235 和歌山
 県岩出市西野417
END:VEVENT
END:VCALENDAR
