BEGIN:VCALENDAR
VERSION:2.0
PRODID:-//chikkutakku.com//RDFCal 1.0//EN
X-WR-CALDESC:GoogleカレンダーやiCalendar形式情報を共有シェ
 アしましょう。近所のイベントから全国のイベントま
 で今日のイベント検索やスケジュールを決めるならち
 っくたっく
X-WR-CALNAME:ちっくたっく
X-WR-TIMEZONE:UTC
BEGIN:VEVENT
SUMMARY:ขอเชิญคณาจารย์ นักวิจั
 ย และผู้ปฏิบัติงานที่เกี่
 ยวข้องกับ เชื้อโรค พิษจากส
 ัตว์ และเทคโนโลยีชีวภาพสม
 ัยใหม่ เข้าร่วมอบรม หลักสู
 ตรความปลอดภัยทางชีวภาพ แล
 ะการรักษาความปลอดภัยทางช
 ีวภาพ (รับจำนวนจำกัดเพียง 15
  ท่าน)  ข่าวประชาสัมพันธ์จา
 ก : สำนักงานการวิจัย
DTSTART;VALUE=DATE:20260428
DTEND;VALUE=DATE:20260430
UID:278683690188
DESCRIPTION:ขอเชิญคณาจารย์ นักวิจ
 ัย และผู้ปฏิบัติงานที่เกี
 ่ยวข้องกับเชื้อโรค พิษจาก
 สัตว์ และเทคโนโลยีชีวภาพส
 มัยใหม่เข้าร่วมอบรม หลักส
 ูตรความปลอดภัยทางชีวภาพ แ
 ละการรักษาความปลอดภัยทาง
 ชีวภาพ(รับจำนวนจำกัดเพียง 
 15 ท่าน)ข่าวประชาสัมพันธ์จา
 ก : สำนักงานการวิจัย⏰ วันเว
 ลาที่เริ่มงาน : 29 - 30 เมษายน 2569
 📍 สถานที่ : ณ ห้องประชุม ชั้
 น 3 อาคารเฉลิมพระเกียรติ 50 พ
 รรษา (ส่วนหลัง)📌ผู้สนใจสาม
 ารถส่งใบสมัครได้ที่ สำนัก
 งานการวิจัย ชั้น 7 อาคารปฏิ
 บัติการวิจัยระหว่างวันที
 ่ 30 มีนาคม - 10 เมษายน 2569กำหนดก
 ารและใบสมัคร : https://dt.mahidol.ac.th/wp-content
 /uploads/2026/03/form-20250323.pdf✳️ หมายเหตุ : ผู
 ้เข้ารับการอบรมต้องมีเวล
 าเข้าร่วมอบรมไม่น้อยกว่า 8
 0% ของระยะเวลาอบรมทั้งหมด แ
 ละต้องผ่านเกณฑ์การทดสอบ 70% 
 ขึ้นไป จึงจะมีสิทธิ์ได้รั
 บใบรับรองผ่านการอบรม (Certificate)
 ⚠️ ขอสงวนสิทธิ์ในการรับผู
 ้สมัครตามลำดับก่อน–หลัง☎
 ️ ติดต่อสอบถาม  สำนักงานกา
 รวิจัย โทร. 7620
LOCATION:ณ ห้องประชุม ชั้น 3 อาคาร
 เฉลิมพระเกียรติ 50 พรรษา (ส่
 วนหลัง)
END:VEVENT
END:VCALENDAR
