BEGIN:VCALENDAR
VERSION:2.0
PRODID:-//chikkutakku.com//RDFCal 1.0//EN
X-WR-CALDESC:GoogleカレンダーやiCalendar形式情報を共有シェ
 アしましょう。近所のイベントから全国のイベントま
 で今日のイベント検索やスケジュールを決めるならち
 っくたっく
X-WR-CALNAME:ちっくたっく
X-WR-TIMEZONE:UTC
BEGIN:VEVENT
SUMMARY:部長会・専攻主任会
DTSTART;VALUE=DATE-TIME:20260520T150000Z
DTEND;VALUE=DATE-TIME:20260521T150000Z
UID:278697501837
DESCRIPTION:部長会・専攻主任会
LOCATION:
END:VEVENT
END:VCALENDAR
