BEGIN:VCALENDAR
VERSION:2.0
PRODID:-//chikkutakku.com//RDFCal 1.0//EN
X-WR-CALDESC:GoogleカレンダーやiCalendar形式情報を共有シェ
 アしましょう。近所のイベントから全国のイベントま
 で今日のイベント検索やスケジュールを決めるならち
 っくたっく
X-WR-CALNAME:ちっくたっく
X-WR-TIMEZONE:UTC
BEGIN:VEVENT
SUMMARY:ほごねこそつぎょうしき
DTSTART;VALUE=DATE:20260518
DTEND;VALUE=DATE:20260519
UID:278874608900
DESCRIPTION:2026-05-19ほごねこそつぎょうしき高橋 うらら/
 玉木 たま/梅田 達也岩崎書店
LOCATION:
END:VEVENT
END:VCALENDAR
