BEGIN:VCALENDAR
VERSION:2.0
PRODID:-//chikkutakku.com//RDFCal 1.0//EN
X-WR-CALDESC:GoogleカレンダーやiCalendar形式情報を共有シェ
 アしましょう。近所のイベントから全国のイベントま
 で今日のイベント検索やスケジュールを決めるならち
 っくたっく
X-WR-CALNAME:ちっくたっく
X-WR-TIMEZONE:UTC
BEGIN:VEVENT
SUMMARY:第3回　古民家サウナ　TOTONOI〜ととのい〜
DTSTART;VALUE=DATE-TIME:20260425T120000Z
DTEND;VALUE=DATE-TIME:20260425T130000Z
UID:278946147273
DESCRIPTION:【イベント主催者】\n　ROIROI＿VRC\n【イベント
 内容】\n　VRCサウナ愛好会が主催する、VRChatでサウナを
 疑似体験しながら気軽に語り合えるコミュニティです
 。\n\nサウナ・スパ健康アドバイザー資格を持つキャス
 トが2名在籍しており、初心者の方にも分かりやすく楽
 しみ方をレクチャーします。\n\n「サウナって何？」「
 整うって何？」という方も大歓迎。知識ゼロでもOKです
 。\n\nサウナ好きの方も、これから始めたい方も、ぜひ
 気軽に遊びに来てください！\n【イベントジャンル】\n
 　その他交流会\, 店舗系イベント\n【参加条件（モデル
 、人数制限など）】\n　不問\n【参加方法】\n　【VRCサ
 ウナ愛好会】3735.6143に参加後、グループ＋でインスタ
 ンスを開いているのでjoinしてください。\n【備考】\n　
LOCATION:
END:VEVENT
END:VCALENDAR
