BEGIN:VCALENDAR
VERSION:2.0
PRODID:-//chikkutakku.com//RDFCal 1.0//EN
X-WR-CALDESC:GoogleカレンダーやiCalendar形式情報を共有シェ
 アしましょう。近所のイベントから全国のイベントま
 で今日のイベント検索やスケジュールを決めるならち
 っくたっく
X-WR-CALNAME:ちっくたっく
X-WR-TIMEZONE:UTC
BEGIN:VEVENT
SUMMARY:【注】彼女、お借りします(4) #37 日常と彼女-ニッ
 カノ- / #38 溜め息と彼女-タメカノ- / #39 代官山と彼女-
 ダイカノ- / #40 決意と彼女-キメカノ- / #41 その時と彼女
 -バッカノ- / #42 家族旅行と彼女-タビカノ- / #43 ハワイ
 アンズと彼女-ハワカノ- / #44 紐と彼女-ポロカノ- / #45 
 初めて記念と彼女-ハツカノ- / #46 薬指と彼女-ユビカノ-
  / #47 罪悪感と彼女-ギルカノ- / #48 楽園と彼女-ケッカノ
 -
DTSTART;VALUE=DATE-TIME:20260422T230000Z
DTEND;VALUE=DATE-TIME:20260423T050000Z
UID:279421516348
DESCRIPTION: / #37 日常と彼女-ニッカノ- / #38 溜め息と彼女-
 タメカノ- / #39 代官山と彼女-ダイカノ- / #40 決意と彼女
 -キメカノ- / #41 その時と彼女-バッカノ- / #42 家族旅行
 と彼女-タビカノ- / #43 ハワイアンズと彼女-ハワカノ- / 
 #44 紐と彼女-ポロカノ- / #45 初めて記念と彼女-ハツカノ
 - / #46 薬指と彼女-ユビカノ- / #47 罪悪感と彼女-ギルカ
 ノ- / #48 楽園と彼女-ケッカノ- / https://abema.tv/channels/lovec
 omedy-anime/slots/AkN7X1XxUBapTR リピート放送は 20:00～ https://ab
 ema.tv/channels/lovecomedy-anime/slots/AkN7Whs92Eo4Ns 、26:00～ https://
 abema.tv/channels/lovecomedy-anime/slots/AkN7YqKThaPXfm (無料TS2週間)
LOCATION:ラブコメアニメ
END:VEVENT
END:VCALENDAR
