BEGIN:VCALENDAR
VERSION:2.0
PRODID:-//chikkutakku.com//RDFCal 1.0//EN
X-WR-CALDESC:GoogleカレンダーやiCalendar形式情報を共有シェ
 アしましょう。近所のイベントから全国のイベントま
 で今日のイベント検索やスケジュールを決めるならち
 っくたっく
X-WR-CALNAME:ちっくたっく
X-WR-TIMEZONE:UTC
BEGIN:VEVENT
SUMMARY:【Android 対応】【DJイベ】Midnight Ray
DTSTART;VALUE=DATE-TIME:20260428T120000Z
DTEND;VALUE=DATE-TIME:20260428T140000Z
UID:279646584092
DESCRIPTION:【イベント主催者】\n　sub6\n【イベント内容】
 \n　DJイベント 【Midnight Ray】\n隔週火曜日開催21˸00~23˸00
 \nEDMメインのオールジャンルのDJイベントです。ジャン
 ル問わず楽しんでいきましょう！\n【イベントジャンル
 】\n　音楽系イベント\, 定期イベント\n【参加条件（モ
 デル、人数制限など）】\n　〈推奨事項〉\n・50mb以下の
 アバター推奨\n・アバターカリング推奨\n\n〈禁止事項
 〉\n・視界ジャック等の一般的に荒らしと認識される行
 為\n・飲酒喫煙の強要\n・公序良俗に反する行為\n・他
 人を侮辱する行為\n【参加方法】\n　group+インスタンス
 での開催となりますのでグループの登録後インスタン
 スにjoin、もしくはインスタンスにいるフレンドからのj
 oinとなります。\n【備考】\n　https://vrc.group/MNRAY.2079
LOCATION:
END:VEVENT
END:VCALENDAR
