BEGIN:VCALENDAR
VERSION:2.0
PRODID:-//chikkutakku.com//RDFCal 1.0//EN
X-WR-CALDESC:GoogleカレンダーやiCalendar形式情報を共有シェ
 アしましょう。近所のイベントから全国のイベントま
 で今日のイベント検索やスケジュールを決めるならち
 っくたっく
X-WR-CALNAME:ちっくたっく
X-WR-TIMEZONE:UTC
BEGIN:VEVENT
SUMMARY:Pastor's Book Study - C
DTSTART;VALUE=DATE-TIME:20260204T060000Z
DTEND;VALUE=DATE-TIME:20260519T050000Z
UID:279799264227
DESCRIPTION:9week Study - Reading Who Is This Man?  Books available on Am
 azon.  \nWill announce the next book after this one is done.\n\nMeets in
  the Choir Room
LOCATION:
END:VEVENT
END:VCALENDAR
