BEGIN:VCALENDAR
VERSION:2.0
PRODID:-//chikkutakku.com//RDFCal 1.0//EN
X-WR-CALDESC:GoogleカレンダーやiCalendar形式情報を共有シェ
 アしましょう。近所のイベントから全国のイベントま
 で今日のイベント検索やスケジュールを決めるならち
 っくたっく
X-WR-CALNAME:ちっくたっく
X-WR-TIMEZONE:UTC
BEGIN:VEVENT
SUMMARY:ABSはよ集まらん会
DTSTART;VALUE=DATE-TIME:20260428T120000Z
DTEND;VALUE=DATE-TIME:20260428T140000Z
UID:279810512277
DESCRIPTION:【イベント主催者】\n　Oct.H & ごまtea & エセキ
 エル & Liar_Roa\n【イベント内容】\n　【GroupPublicインスタ
 ンスでのイベントです】規格化されたContactを使って戦
 えるアバター用ギミック「アバターバトルシステム」
 のユーザー同士で集まると共に、当ギミックを見学・
 体験してみたい方との交流も兼ねたイベントです。\n【
 イベントジャンル】\n　その他交流会\, 定期イベント\n
 【参加条件（モデル、人数制限など）】\n　特になし(
 ※ ご案内は日本語のみとなっております)\n【参加方法
 】\n　開催時間中に「ABSバトルフィールド」のGroupPublic
 インスタンスにJoin\n【備考】\n　※ 主催者以外のユー
 ザーがインスタンスオーナーであった場合、当会はあ
 らゆる責任を負えません。予めご了承ください。\n\nギ
 ミック体験希望の方へ向けたサンプルアバターが多数
 ございます。お気軽にお申し付けください。\nまた、当
 イベントは日本語の読み書きと会話がある程度出来る
 ユーザーを想定して開催しておりますので、日本語が
 出来ない方は日本語の読み書きと会話が出来るユーザ
 ーとの同伴をお願いいたします。\nご協力に感謝します
 。
LOCATION:
END:VEVENT
END:VCALENDAR
