BEGIN:VCALENDAR
VERSION:2.0
PRODID:-//chikkutakku.com//RDFCal 1.0//EN
X-WR-CALDESC:GoogleカレンダーやiCalendar形式情報を共有シェ
 アしましょう。近所のイベントから全国のイベントま
 で今日のイベント検索やスケジュールを決めるならち
 っくたっく
X-WR-CALNAME:ちっくたっく
X-WR-TIMEZONE:UTC
BEGIN:VEVENT
SUMMARY:はなかっぱ  ボケの天才!?／かっこいいってなん
 だ
DTSTART;VALUE=DATE-TIME:20260421T222000Z
DTEND;VALUE=DATE-TIME:20260421T223000Z
UID:280256903308
DESCRIPTION: /  ボケの天才!?／かっこいいってなんだ / 
LOCATION:NHK Eテレ
END:VEVENT
END:VCALENDAR
