BEGIN:VCALENDAR
VERSION:2.0
PRODID:-//chikkutakku.com//RDFCal 1.0//EN
X-WR-CALDESC:GoogleカレンダーやiCalendar形式情報を共有シェ
 アしましょう。近所のイベントから全国のイベントま
 で今日のイベント検索やスケジュールを決めるならち
 っくたっく
X-WR-CALNAME:ちっくたっく
X-WR-TIMEZONE:UTC
BEGIN:VEVENT
SUMMARY:【注】お隣の天使様にいつの間にか駄目人間にさ
 れていた件2 #1 二人での登校とお披露目 / #2 夏休みの始
 まり / #3 帰省と過去との決別 / #4 天使様とおうちデー
 ト
DTSTART;VALUE=DATE-TIME:20260425T013000Z
DTEND;VALUE=DATE-TIME:20260425T033000Z
UID:280649297883
DESCRIPTION: / #1 二人での登校とお披露目 / #2 夏休みの始
 まり / #3 帰省と過去との決別 / #4 天使様とおうちデー
 ト / https://abema.tv/channels/abema-anime/slots/AkN7Xv5BeTQ167 リピー
 ト放送は ABEMA アニメチャンネル3 16:30～ https://abema.tv/cha
 nnels/abema-anime-3/slots/AkN7Ypr8SZCfEX ※無料TSなし
LOCATION:Abemaアニメ
END:VEVENT
END:VCALENDAR
