BEGIN:VCALENDAR
VERSION:2.0
PRODID:-//chikkutakku.com//RDFCal 1.0//EN
X-WR-CALDESC:GoogleカレンダーやiCalendar形式情報を共有シェ
 アしましょう。近所のイベントから全国のイベントま
 で今日のイベント検索やスケジュールを決めるならち
 っくたっく
X-WR-CALNAME:ちっくたっく
X-WR-TIMEZONE:UTC
BEGIN:VEVENT
SUMMARY:【Android 対応】VRCニコニコ集会(vR)
DTSTART;VALUE=DATE-TIME:20260421T110000Z
DTEND;VALUE=DATE-TIME:20260421T140000Z
UID:281601157956
DESCRIPTION:【イベント主催者】\n　CheddaraddehC\n【イベント
 内容】\n　いよいよ今週末がニコニコ超会議2026の開催
 日です！それに向けて先週から特設エリアを用意して
 ありますのでお楽しみに！ \n\nニコニコ動画のユーザー
 や興味や思い出のある方で集まり、専用ワールドで動
 画や放送を見たり会話や交流を楽しむ集会イベントで
 す。イベントとしては21時で集合写真を撮って一区切り
 つけますが、その後は延長してインスタンスを開き、
 皆で好きな動画を流すアフターの時間となります。\nア
 フターからの参加も大歓迎ですので気軽にお越しくだ
 さい！\n【イベントジャンル】\n　その他交流会\, 定期
 イベント\n【参加条件（モデル、人数制限など）】\n　
 特になし\n【参加方法】\n　グループ「VRCニコニコ集会(
 vR)」へ参加してJoin!\nhttps://vrc.group/NICONI.0005\n【備考】\n
 　
LOCATION:
END:VEVENT
END:VCALENDAR
