BEGIN:VCALENDAR
VERSION:2.0
PRODID:-//chikkutakku.com//RDFCal 1.0//EN
X-WR-CALDESC:GoogleカレンダーやiCalendar形式情報を共有シェ
 アしましょう。近所のイベントから全国のイベントま
 で今日のイベント検索やスケジュールを決めるならち
 っくたっく
X-WR-CALNAME:ちっくたっく
X-WR-TIMEZONE:UTC
BEGIN:VEVENT
SUMMARY:【朗読会】喫茶ペトリコール 特別営業
DTSTART;VALUE=DATE-TIME:20260424T130000Z
DTEND;VALUE=DATE-TIME:20260424T143000Z
UID:281654484643
DESCRIPTION:【イベント主催者】\n　ひさぎ\n【イベント内
 容】\n　今回は使用人たちによる朗読会となります。\n
 ※詳しくは公式Xをご確認ください。\n【イベントジャ
 ンル】\n　店舗系イベント\, ロールプレイ\, 定期イベン
 ト\n【参加条件（モデル、人数制限など）】\n　ー禁止
 事項ー\n・版権アバター\n・NSFWに該当するアバター及び
 改変\n・営業中のキャストへのフレンド申請\n・許可な
 き録画、録音、配信\n・キャスト/お客様への嫌がらせ
 、不快な発言等\n・その他、イベントを妨げると運営が
 判断した行為\n※上記の事項に違反した場合、BAN等の然
 るべき対応をさせていただく場合がございます。\n【参
 加方法】\n　グループインスタンスにjoin\nhttps://vrchat.com
 /home/group/grp_e3400845-bcd1-4a59-a8f1-060561600eb5\n【備考】\n　
LOCATION:
END:VEVENT
END:VCALENDAR
