BEGIN:VCALENDAR
VERSION:2.0
PRODID:-//chikkutakku.com//RDFCal 1.0//EN
X-WR-CALDESC:GoogleカレンダーやiCalendar形式情報を共有シェ
 アしましょう。近所のイベントから全国のイベントま
 で今日のイベント検索やスケジュールを決めるならち
 っくたっく
X-WR-CALNAME:ちっくたっく
X-WR-TIMEZONE:UTC
BEGIN:VEVENT
SUMMARY:★日本の轍 4/28(火)21:54-22:00 関西テレビ(近畿広域
 圏 Ch.8)
DTSTART;VALUE=DATE-TIME:20260428T125400Z
DTEND;VALUE=DATE-TIME:20260428T130000Z
UID:281673913862
DESCRIPTION:★日本の轍\n4/28(火)21:54-22:00 関西テレビ(近畿
 広域圏 Ch.8)\n今回の轍は和歌山県湯浅町を通る「有田道
 」。この地は古くから漁業の街として栄えてきた。春
 に獲れるシロウオが有名で踊り食いは、この時期なら
 ではの味覚として訪れる人を楽しませてきた。そんな
 有田道を辿りながら歴史の轍を紐解いていく。\nhttps://w
 ww.ktv.jp/wadachi/
LOCATION:
END:VEVENT
END:VCALENDAR
