BEGIN:VCALENDAR
VERSION:2.0
PRODID:-//chikkutakku.com//RDFCal 1.0//EN
X-WR-CALDESC:GoogleカレンダーやiCalendar形式情報を共有シェ
 アしましょう。近所のイベントから全国のイベントま
 で今日のイベント検索やスケジュールを決めるならち
 っくたっく
X-WR-CALNAME:ちっくたっく
X-WR-TIMEZONE:UTC
BEGIN:VEVENT
SUMMARY:とんがり帽子のアトリエ #5 「巨鱗竜(ドラゴン)の
 迷宮」
DTSTART;VALUE=DATE-TIME:20260504T140000Z
DTEND;VALUE=DATE-TIME:20260504T143000Z
UID:282079969041
DESCRIPTION:5 / 巨鱗竜(ドラゴン)の迷宮 / 
LOCATION:AT-X
END:VEVENT
END:VCALENDAR
