BEGIN:VCALENDAR
VERSION:2.0
PRODID:-//chikkutakku.com//RDFCal 1.0//EN
X-WR-CALDESC:GoogleカレンダーやiCalendar形式情報を共有シェ
 アしましょう。近所のイベントから全国のイベントま
 で今日のイベント検索やスケジュールを決めるならち
 っくたっく
X-WR-CALNAME:ちっくたっく
X-WR-TIMEZONE:UTC
BEGIN:VEVENT
SUMMARY:リアルVR鬼ごっこ in JapanStreet
DTSTART;VALUE=DATE-TIME:20260426T123000Z
DTEND;VALUE=DATE-TIME:20260426T140000Z
UID:282169776230
DESCRIPTION:【イベント主催者】\n　Hayate Mitaka\n【イベント
 内容】\n　ビッグスケールの街で逃げ回る幼女を捕まえ
 ろ！\nみなさんには JapanStreet で逃げまくる銀杏の会設
 立メンバー幼女3人を捕まえてもらいます。\n【イベン
 トジャンル】\n　その他交流会\, ロールプレイ\n【参加
 条件（モデル、人数制限など）】\n　100cm以上のアバタ
 ーを推奨。\nパフォーマンスランク制限はありませんが
 、軽いに超したことはありません。\n【参加方法】\n　
 銀杏の会 (GINNAN.7258) Group+ にJOIN\n22時頃のスタートと同
 時にインスタンスを閉じます。参加希望の方はお早め
 に。\n【備考】\n　《レギュレーション》\n　追われる
 側：建物の中には入らない（陰に隠れるのは可）\n　　
 　　　　　観念したらおとなしくリスポーンする\n　追
 う側：そのアバターの標準搭載ギミック以外は使用禁
 止\n　　　　　3人以外を捕まえてはいけない\n　共通：
 リスポーン地点付近と、2箇所あるコンビニ内部は休憩
 地帯。捕獲は無効。\n\n《賞品》\n　VR幼女を追い回すと
 いう一生できないような経験\n\n人が多い方が"面白い"
 ですから、フレンドお誘い合わせのうえ、ぜひご参加
 ください。
LOCATION:
END:VEVENT
END:VCALENDAR
