BEGIN:VCALENDAR
VERSION:2.0
PRODID:-//chikkutakku.com//RDFCal 1.0//EN
X-WR-CALDESC:GoogleカレンダーやiCalendar形式情報を共有シェ
 アしましょう。近所のイベントから全国のイベントま
 で今日のイベント検索やスケジュールを決めるならち
 っくたっく
X-WR-CALNAME:ちっくたっく
X-WR-TIMEZONE:UTC
BEGIN:VEVENT
SUMMARY:pesa social evening
DTSTART;VALUE=DATE-TIME:20260423T070000Z
DTEND;VALUE=DATE-TIME:20260423T093000Z
UID:282267662269
DESCRIPTION:pesa social evening
LOCATION:Babylon Brisbane\, 145 Eagle St\, Brisbane City QLD 4000\, Austra
 lia
END:VEVENT
END:VCALENDAR
