BEGIN:VCALENDAR
VERSION:2.0
PRODID:-//chikkutakku.com//RDFCal 1.0//EN
X-WR-CALDESC:GoogleカレンダーやiCalendar形式情報を共有シェ
 アしましょう。近所のイベントから全国のイベントま
 で今日のイベント検索やスケジュールを決めるならち
 っくたっく
X-WR-CALNAME:ちっくたっく
X-WR-TIMEZONE:UTC
BEGIN:VEVENT
SUMMARY:(เชิญ รองฯทศพล)เชิญเป็นป
 ระธานการประชุม คปสจ.ครั้งท
 ี่4/2569
DTSTART;VALUE=DATE-TIME:20260429T023000Z
DTEND;VALUE=DATE-TIME:20260429T050000Z
UID:282797635752
DESCRIPTION:(เชิญ รองฯทศพล)เชิญเป็
 นประธานการประชุม คปสจ.ครั้
 งที่4/2569
LOCATION:ณ ห้องประชุมสามัคคี ชั้
 น5 สสจ.
END:VEVENT
END:VCALENDAR
