BEGIN:VCALENDAR
VERSION:2.0
PRODID:-//chikkutakku.com//RDFCal 1.0//EN
X-WR-CALDESC:GoogleカレンダーやiCalendar形式情報を共有シェ
 アしましょう。近所のイベントから全国のイベントま
 で今日のイベント検索やスケジュールを決めるならち
 っくたっく
X-WR-CALNAME:ちっくたっく
X-WR-TIMEZONE:UTC
BEGIN:VEVENT
SUMMARY:Seishin Futaba 黄帯緑帯以上yellow &green belt and above leve
 l
DTSTART;VALUE=DATE-TIME:20260428T103000Z
DTEND;VALUE=DATE-TIME:20260428T113000Z
UID:282802588754
DESCRIPTION:Due to unexpected unforeseen circumstances on the 21st and 22n
 d\, we had planned to take a break in the 5th week\, but instead\, we deci
 ded to hold a lesson.
LOCATION:江戸川区立清新ふたば小学校\, 日本、〒134-0087 
 東京都江戸川区清新町１丁目１−３８ 江戸川区立清新
 ふたば小学校
END:VEVENT
END:VCALENDAR
