BEGIN:VCALENDAR
VERSION:2.0
PRODID:-//chikkutakku.com//RDFCal 1.0//EN
X-WR-CALDESC:GoogleカレンダーやiCalendar形式情報を共有シェ
 アしましょう。近所のイベントから全国のイベントま
 で今日のイベント検索やスケジュールを決めるならち
 っくたっく
X-WR-CALNAME:ちっくたっく
X-WR-TIMEZONE:UTC
BEGIN:VEVENT
SUMMARY:SPECIAL SESSION!
DTSTART;VALUE=DATE-TIME:20260507T093000Z
DTEND;VALUE=DATE-TIME:20260507T133000Z
UID:283108946501
DESCRIPTION:沢井原兒(sax)\nGrant C Weston(dr)\nナスノミツル(b)\n
 ホッピー神山(key)\nopen 18:30 / start 19:00\nadv ¥4500 / door ¥500
 0(+1d)\n曼荼羅（吉祥寺、東京）\n東京都武蔵野市吉祥寺
 南町1-5-2\nTEL / FAX：0422-48-5003\nhttps://www.mandala-1.com/\n 
LOCATION:曼荼羅（吉祥寺、東京）
END:VEVENT
END:VCALENDAR
