BEGIN:VCALENDAR
VERSION:2.0
PRODID:-//chikkutakku.com//RDFCal 1.0//EN
X-WR-CALDESC:GoogleカレンダーやiCalendar形式情報を共有シェ
 アしましょう。近所のイベントから全国のイベントま
 で今日のイベント検索やスケジュールを決めるならち
 っくたっく
X-WR-CALNAME:ちっくたっく
X-WR-TIMEZONE:UTC
BEGIN:VEVENT
SUMMARY:【Android 対応】イケケモBar「CACHETTE」最終営業日
DTSTART;VALUE=DATE-TIME:20260424T130000Z
DTEND;VALUE=DATE-TIME:20260424T140000Z
UID:283918299965
DESCRIPTION:【イベント主催者】\n　Helena（JP）\,影虎。［Ka
 getora］\,-telma-\n【イベント内容】\n　イケメンの獣人キ
 ャストとお話やお酒又ソフトドリンクを飲みながら1日
 の疲れを癒すためのbar形式の雑談イベントです。\n【イ
 ベントジャンル】\n　VR飲み会\, 店舗系イベント\, 初心
 者向けイベント\, 定期イベント\n【参加条件（モデル、
 人数制限など）】\n　収容人数はキャスト含め約24人、
 参加は自由です。キャストスタッフお客様問わず「過
 度なパーティクル(武器\,装飾品)」や「NFSW行為」を禁止
 させていただきます。\n※キャスト\,スタッフは獣人ア
 バターですが、お客様は獣人アバターでは無くても大
 丈夫です。\n【参加方法】\n　Group+で開催しますので、
 各インスタンスのスタッフにjoinをお願いします。\njoin
 先は開催日当日、「備考」に記載されたポストにリプ
 ライでお知らせします。\n【備考】\n　https://x.com/BarCache
 tte23/status/2045151301475156052
LOCATION:
END:VEVENT
END:VCALENDAR
