BEGIN:VCALENDAR
VERSION:2.0
PRODID:-//chikkutakku.com//RDFCal 1.0//EN
X-WR-CALDESC:GoogleカレンダーやiCalendar形式情報を共有シェ
 アしましょう。近所のイベントから全国のイベントま
 で今日のイベント検索やスケジュールを決めるならち
 っくたっく
X-WR-CALNAME:ちっくたっく
X-WR-TIMEZONE:UTC
BEGIN:VEVENT
SUMMARY:Sakai Core Team call
DTSTART;VALUE=DATE-TIME:20260421T040000Z
DTEND;VALUE=DATE-TIME:20260421T040000Z
UID:285080266347
DESCRIPTION:https://apereo.rooms.blindsidenetworks.com/rooms/ywk-ahp-vvx-e
 9o/join\n\nTo join this meeting by phone\, dial:\n1-510-200-0222\n(1-855-2
 15-5935 toll-free)\nThen enter 187 598 684 as the conference pin number.\n
 \nEtherpad\n--------------------\nURL pattern is\nhttps://etherpad.nightly
 .sakaiproject.org/p/core-yyyy-mm-dd\n\nExample:\nhttps://etherpad.nightly.
 sakaiproject.org/p/core-2017-09-26
LOCATION:https://apereo.rooms.blindsidenetworks.com/rooms/ywk-ahp-vvx-e9o/
 join
END:VEVENT
END:VCALENDAR
