BEGIN:VCALENDAR
VERSION:2.0
PRODID:-//chikkutakku.com//RDFCal 1.0//EN
X-WR-CALDESC:GoogleカレンダーやiCalendar形式情報を共有シェ
 アしましょう。近所のイベントから全国のイベントま
 で今日のイベント検索やスケジュールを決めるならち
 っくたっく
X-WR-CALNAME:ちっくたっく
X-WR-TIMEZONE:UTC
BEGIN:VEVENT
SUMMARY:J “การฝึกอบรม CMU Safety Survivor: สร้
 างเสริมสุขภาวะและรู้ทันค
 วามเสี่ยงสุขภาพในการทำงา
 น มหาวิทยาลัยเชียงใหม่”
DTSTART;VALUE=DATE:20260421
DTEND;VALUE=DATE:20260422
UID:285838077069
DESCRIPTION:ผอ.มอบหมายพิชญาภร\nตาม
 ที่ มหาวิทยาลัยจะได้จัด “ก
 ารฝึกอบรม CMU Safety Survivor: สร้างเส
 ริมสุขภาวะและรู้ทันความเ
 สี่ยงสุขภาพในการทำงาน มหา
 วิทยาลัยเชียงใหม่” ในวันท
 ี่ 22 เมษายน 2569 เวลา 08.30 – 16.45 น. ณ 
 ห้องประชุม 201 ชั้น 2 สำนักบริ
 การเทคโนโลยีสารสนเทศ มหาว
 ิทยาลัยเชียงใหม่ เพื่อส่ง
 เสริมความรู้ด้านอาชีวอนา
 มัยและความปลอดภัยในการทำ
 งานแก่บุคลากร และสร้างควา
 มตระหนักรู้เกี่ยวกับความ
 เสี่ยงสุขภาพในแต่ละลักษณ
 ะงาน ตลอดจนส่งเสริมพฤติกร
 รมการดูแลสุขภาพและป้องกั
 นโรคจากการทำงาน และสร้างเ
 ครือข่ายการดำเนินงานด้าน
 การดูแลสุขภาพกับส่วนงานต
 ่างๆ ภายในมหาวิทยาลัยเชีย
 งใหม่ 
LOCATION:
END:VEVENT
END:VCALENDAR
