BEGIN:VCALENDAR
VERSION:2.0
PRODID:-//chikkutakku.com//RDFCal 1.0//EN
X-WR-CALDESC:GoogleカレンダーやiCalendar形式情報を共有シェ
 アしましょう。近所のイベントから全国のイベントま
 で今日のイベント検索やスケジュールを決めるならち
 っくたっく
X-WR-CALNAME:ちっくたっく
X-WR-TIMEZONE:UTC
BEGIN:VEVENT
SUMMARY:椎名林檎 林檎博'18 -不惑の余裕-
DTSTART;VALUE=DATE-TIME:20260514T193500Z
DTEND;VALUE=DATE-TIME:20260514T213000Z
UID:286334849944
DESCRIPTION:start 4:35 / end 6:30\n椎名林檎のデビュー20周年を
 記念したアリーナツアーの模様を放送。宮本さんゲス
 ト出演。「獣ゆく細道」「悲しみの果て」。\n収録：201
 8年11月25日/埼玉　さいたまスーパーアリーナ\n\n【関連/
 参考ページ】\nhttps://www.wowow.co.jp/detail/203558/-/01
LOCATION:WOWOWライブ【日本】
END:VEVENT
END:VCALENDAR
