BEGIN:VCALENDAR
VERSION:2.0
PRODID:-//chikkutakku.com//RDFCal 1.0//EN
X-WR-CALDESC:GoogleカレンダーやiCalendar形式情報を共有シェ
 アしましょう。近所のイベントから全国のイベントま
 で今日のイベント検索やスケジュールを決めるならち
 っくたっく
X-WR-CALNAME:ちっくたっく
X-WR-TIMEZONE:UTC
BEGIN:VEVENT
SUMMARY:Noggin
DTSTART;VALUE=DATE:20260518
DTEND;VALUE=DATE:20260519
UID:286407883966
DESCRIPTION:Kings Head\, Tealby\, Market Rasen LN8 3YA\n6pm for 6.30\nNo p
 re-order of food necessary\, but if you're attending  please let David an
 d Sue know by Friday May 15th
LOCATION:
END:VEVENT
END:VCALENDAR
