BEGIN:VCALENDAR
VERSION:2.0
PRODID:-//chikkutakku.com//RDFCal 1.0//EN
X-WR-CALDESC:GoogleカレンダーやiCalendar形式情報を共有シェ
 アしましょう。近所のイベントから全国のイベントま
 で今日のイベント検索やスケジュールを決めるならち
 っくたっく
X-WR-CALNAME:ちっくたっく
X-WR-TIMEZONE:UTC
BEGIN:VEVENT
SUMMARY:【プレオープン】無気力メイド喫茶『アンニュイ
 』（エイプリルフール特別営業）
DTSTART;VALUE=DATE-TIME:20260422T130000Z
DTEND;VALUE=DATE-TIME:20260422T140000Z
UID:286440160873
DESCRIPTION:【イベント主催者】\n　ぴよたん\n【イベント
 内容】\n　普段の営業とは違う！今回はエイプリルフー
 ル特別営業！\n\n～ダウナーメイドがいるって聞いて来
 たけど、なんかすっげーうるさいしメイドは男！？～\n
 『お帰りなさいませ！ご主人様！お嬢様！ご帰宅お待
 ちしておりました！』\n\n超元気な男性メイドとお話す
 る、少人数1対1のRP兼雑談イベントです！！！\n\nやる気
 に満ち溢れてるメイドたちが、皆様のご帰宅を楽しみ
 に待っております！！！\n【イベントジャンル】\n　店
 舗系イベント\, ロールプレイ\, 初心者向けイベント\n【
 参加条件（モデル、人数制限など）】\n　日本語での会
 話が可能な方\n・キャストと間違えないよう、メイド服
 を着用したアバターの使用はお控えください。\n・ダウ
 ンロードサイズは50MB未満のご協力をお願いいたします
 。\n・版権アバターの使用はお控えください。\n【参加
 方法】\n　「ぴよたん」にフレンド申請し、当日22:00に
 招待リクエストを"1回"送信\n（招待枠もご用意しており
 ます）\n↓フレンド申請先↓\nhttps://vrchat.com/home/user/usr_3
 fb89d9d-5881-47a3-84b3-17b281711ee7\n【備考】\n　公式X：https://x.
 com/vrc_Annyui\nグループ：https://vrc.group/ANNYUI.3823
LOCATION:
END:VEVENT
END:VCALENDAR
