BEGIN:VCALENDAR
VERSION:2.0
PRODID:-//chikkutakku.com//RDFCal 1.0//EN
X-WR-CALDESC:GoogleカレンダーやiCalendar形式情報を共有シェ
 アしましょう。近所のイベントから全国のイベントま
 で今日のイベント検索やスケジュールを決めるならち
 っくたっく
X-WR-CALNAME:ちっくたっく
X-WR-TIMEZONE:UTC
BEGIN:VEVENT
SUMMARY:(รองฯเจริญ)ติดตามความก้
 าวหน้า พชอ.
DTSTART;VALUE=DATE-TIME:20260505T010000Z
DTEND;VALUE=DATE-TIME:20260505T093000Z
UID:286611902136
DESCRIPTION:(รองฯเจริญ)ติดตามความก
 ้าวหน้า พชอ.
LOCATION:สสอ.บางตนที
END:VEVENT
END:VCALENDAR
