BEGIN:VCALENDAR
VERSION:2.0
PRODID:-//chikkutakku.com//RDFCal 1.0//EN
X-WR-CALDESC:GoogleカレンダーやiCalendar形式情報を共有シェ
 アしましょう。近所のイベントから全国のイベントま
 で今日のイベント検索やスケジュールを決めるならち
 っくたっく
X-WR-CALNAME:ちっくたっく
X-WR-TIMEZONE:UTC
BEGIN:VEVENT
SUMMARY:J日暮里 初心者クラス11 神成（クイックステップ
 ①、サンバ①）
DTSTART;VALUE=DATE-TIME:20260519T103000Z
DTEND;VALUE=DATE-TIME:20260519T120000Z
UID:286660210279
DESCRIPTION:ステップ名＆動画\nクイックステップ①：https:
 //dancecirclej.com/index.php?go=UErgkK\nサンバ①：https://dancecircle
 j.com/index.php?go=XJbpfn
LOCATION:三共カルチャースタジオ
END:VEVENT
END:VCALENDAR
