BEGIN:VCALENDAR
VERSION:2.0
PRODID:-//chikkutakku.com//RDFCal 1.0//EN
X-WR-CALDESC:GoogleカレンダーやiCalendar形式情報を共有シェ
 アしましょう。近所のイベントから全国のイベントま
 で今日のイベント検索やスケジュールを決めるならち
 っくたっく
X-WR-CALNAME:ちっくたっく
X-WR-TIMEZONE:UTC
BEGIN:VEVENT
SUMMARY:(自付場租)(5F國際會議)財團法人張老師基金會台中
 分事務所
DTSTART;VALUE=DATE:20260424
DTEND;VALUE=DATE:20260426
UID:287042787429
DESCRIPTION:上午09:00開幕式
LOCATION:
END:VEVENT
END:VCALENDAR
